BEGIN:VCALENDAR
VERSION:2.0
PRODID:icalendar-ruby
CALSCALE:GREGORIAN
METHOD:PUBLISH
BEGIN:VEVENT
DTSTAMP:20260420T095741Z
UID:6-375311@wesleyodu.org
DTSTART:20260421T193000Z
DTEND:20260421T210000Z
CLASS:PUBLIC
CREATED:20260412T192347
DESCRIPTION:
LAST-MODIFIED:20260412T192347
LOCATION:Wesley ODU
SUMMARY:Tuesday Free Lunch
URL;VALUE=URI:https://www.wesleyodu.org/events/tuesday-free-lunch/2026-04-2
 1
END:VEVENT
END:VCALENDAR
