BEGIN:VCALENDAR
VERSION:2.0
PRODID:icalendar-ruby
CALSCALE:GREGORIAN
METHOD:PUBLISH
BEGIN:VEVENT
DTSTAMP:20260420T091211Z
UID:13-375330@wesleyodu.org
DTSTART:20260419T230000Z
DTEND:20260420T040000Z
CLASS:PUBLIC
CREATED:20260412T193146
DESCRIPTION:
LAST-MODIFIED:20260412T193146
LOCATION:
SUMMARY:Mini Golf at the Oceanfront
URL;VALUE=URI:https://www.wesleyodu.org/events/mini-golf-at-the-oceanfront/
 2026-04-19
END:VEVENT
END:VCALENDAR
