BEGIN:VCALENDAR
VERSION:2.0
PRODID:icalendar-ruby
CALSCALE:GREGORIAN
METHOD:PUBLISH
BEGIN:VEVENT
DTSTAMP:20260420T101539Z
UID:8-375316@wesleyodu.org
DTSTART:20260423T020000Z
DTEND:20260423T040000Z
CLASS:PUBLIC
CREATED:20260412T192644
DESCRIPTION:
LAST-MODIFIED:20260412T192644
LOCATION:
SUMMARY:Karaoke and Dirty Soda Night
URL;VALUE=URI:https://www.wesleyodu.org/events/karaoke-and-dirty-soda-night
 /2026-04-22
END:VEVENT
END:VCALENDAR
