BEGIN:VCALENDAR
VERSION:2.0
PRODID:icalendar-ruby
CALSCALE:GREGORIAN
METHOD:PUBLISH
BEGIN:VEVENT
DTSTAMP:20260422T112413Z
UID:14-375331@wesleyodu.org
DTSTART:20260427T000000Z
DTEND:20260427T040000Z
CLASS:PUBLIC
CREATED:20260412T193213
DESCRIPTION:
LAST-MODIFIED:20260412T193213
LOCATION:
SUMMARY:End of the Year Cookout
URL;VALUE=URI:https://www.wesleyodu.org/events/end-of-the-year-cookout/2026
 -04-26
END:VEVENT
END:VCALENDAR
