BEGIN:VCALENDAR
VERSION:2.0
PRODID:icalendar-ruby
CALSCALE:GREGORIAN
METHOD:PUBLISH
BEGIN:VEVENT
DTSTAMP:20260422T112139Z
UID:9-375317@wesleyodu.org
DTSTART:20260430T020000Z
DTEND:20260430T040000Z
CLASS:PUBLIC
CREATED:20260412T192721
DESCRIPTION:
LAST-MODIFIED:20260412T192721
LOCATION:
SUMMARY:Bonfire and Movie on the Lawn
URL;VALUE=URI:https://www.wesleyodu.org/events/bonfire-and-movie-on-the-law
 n/2026-04-29
END:VEVENT
END:VCALENDAR
