BEGIN:VCALENDAR
VERSION:2.0
PRODID:icalendar-ruby
CALSCALE:GREGORIAN
METHOD:PUBLISH
BEGIN:VEVENT
DTSTAMP:20260420T090636Z
UID:10-375318@wesleyodu.org
DTSTART:20260420T190000Z
DTEND:20260420T200000Z
CLASS:PUBLIC
CREATED:20260412T192851
DESCRIPTION:
LAST-MODIFIED:20260412T192851
LOCATION:Webb Center
SUMMARY:Bible Study with Lucy in Webb Center
URL;VALUE=URI:https://www.wesleyodu.org/events/bible-study-with-lucy-in-web
 b-center/2026-04-20
END:VEVENT
END:VCALENDAR
